BEGIN:VCALENDAR
VERSION:2.0
PRODID:-//1st Presbyterian Church - ECPv6.15.20//NONSGML v1.0//EN
CALSCALE:GREGORIAN
METHOD:PUBLISH
X-ORIGINAL-URL:https://firstpresfortwayne.org
X-WR-CALDESC:Events for 1st Presbyterian Church
REFRESH-INTERVAL;VALUE=DURATION:PT1H
X-Robots-Tag:noindex
X-PUBLISHED-TTL:PT1H
BEGIN:VTIMEZONE
TZID:America/Indiana/Indianapolis
BEGIN:DAYLIGHT
TZOFFSETFROM:-0500
TZOFFSETTO:-0400
TZNAME:EDT
DTSTART:20250309T070000
END:DAYLIGHT
BEGIN:STANDARD
TZOFFSETFROM:-0400
TZOFFSETTO:-0500
TZNAME:EST
DTSTART:20251102T060000
END:STANDARD
BEGIN:DAYLIGHT
TZOFFSETFROM:-0500
TZOFFSETTO:-0400
TZNAME:EDT
DTSTART:20260308T070000
END:DAYLIGHT
BEGIN:STANDARD
TZOFFSETFROM:-0400
TZOFFSETTO:-0500
TZNAME:EST
DTSTART:20261101T060000
END:STANDARD
BEGIN:DAYLIGHT
TZOFFSETFROM:-0500
TZOFFSETTO:-0400
TZNAME:EDT
DTSTART:20270314T070000
END:DAYLIGHT
BEGIN:STANDARD
TZOFFSETFROM:-0400
TZOFFSETTO:-0500
TZNAME:EST
DTSTART:20271107T060000
END:STANDARD
END:VTIMEZONE
BEGIN:VEVENT
DTSTART;TZID=America/Indiana/Indianapolis:20260322T121500
DTEND;TZID=America/Indiana/Indianapolis:20260322T130000
DTSTAMP:20260423T090524
CREATED:20260318T115809Z
LAST-MODIFIED:20260318T115809Z
UID:19285-1774181700-1774184400@firstpresfortwayne.org
SUMMARY:Coffee\, Cookies\, and Conversation
DESCRIPTION:After worship\, stay for coffee\, cookies\, and conversation in McKay Hall! Everyone is welcome!
URL:https://firstpresfortwayne.org/event/coffee-cookies-and-conversation/
LOCATION:First Presbyterian Church\, 300 W Wayne St.\, Fort Wayne\, 46802\, United States
CATEGORIES:Church
END:VEVENT
BEGIN:VEVENT
DTSTART;TZID=America/Indiana/Indianapolis:20260322T140000
DTEND;TZID=America/Indiana/Indianapolis:20260322T150000
DTSTAMP:20260423T090524
CREATED:20260206T135748Z
LAST-MODIFIED:20260206T135748Z
UID:19153-1774188000-1774191600@firstpresfortwayne.org
SUMMARY:Jeremy Filsell Piano Recital
DESCRIPTION:Jeremy Filsell\, an international artist hailed as one of only a few virtuoso performers as both pianist and organist\, will present a piano recital in the First Presbyterian Church Sanctuary. The event is free and open to the public.
URL:https://firstpresfortwayne.org/event/jeremy-filsell-piano-recital/
LOCATION:First Presbyterian Church\, 300 W Wayne St.\, Fort Wayne\, 46802\, United States
CATEGORIES:Church
END:VEVENT
END:VCALENDAR