BEGIN:VCALENDAR
VERSION:2.0
PRODID:-//1st Presbyterian Church - ECPv6.15.20//NONSGML v1.0//EN
CALSCALE:GREGORIAN
METHOD:PUBLISH
X-WR-CALNAME:1st Presbyterian Church
X-ORIGINAL-URL:https://firstpresfortwayne.org
X-WR-CALDESC:Events for 1st Presbyterian Church
REFRESH-INTERVAL;VALUE=DURATION:PT1H
X-Robots-Tag:noindex
X-PUBLISHED-TTL:PT1H
BEGIN:VTIMEZONE
TZID:America/Indiana/Indianapolis
BEGIN:DAYLIGHT
TZOFFSETFROM:-0500
TZOFFSETTO:-0400
TZNAME:EDT
DTSTART:20250309T070000
END:DAYLIGHT
BEGIN:STANDARD
TZOFFSETFROM:-0400
TZOFFSETTO:-0500
TZNAME:EST
DTSTART:20251102T060000
END:STANDARD
BEGIN:DAYLIGHT
TZOFFSETFROM:-0500
TZOFFSETTO:-0400
TZNAME:EDT
DTSTART:20260308T070000
END:DAYLIGHT
BEGIN:STANDARD
TZOFFSETFROM:-0400
TZOFFSETTO:-0500
TZNAME:EST
DTSTART:20261101T060000
END:STANDARD
BEGIN:DAYLIGHT
TZOFFSETFROM:-0500
TZOFFSETTO:-0400
TZNAME:EDT
DTSTART:20270314T070000
END:DAYLIGHT
BEGIN:STANDARD
TZOFFSETFROM:-0400
TZOFFSETTO:-0500
TZNAME:EST
DTSTART:20271107T060000
END:STANDARD
END:VTIMEZONE
BEGIN:VEVENT
DTSTART;TZID=America/Indiana/Indianapolis:20260225T100000
DTEND;TZID=America/Indiana/Indianapolis:20260225T110000
DTSTAMP:20260425T113107
CREATED:20260114T195050Z
LAST-MODIFIED:20260114T195050Z
UID:19073-1772013600-1772017200@firstpresfortwayne.org
SUMMARY:Table Talk Women's Book Study
DESCRIPTION:Table Talk 1 (Women’s Book Study) meets online on Wednesdays at 10:00 am. We take turns “reading around the table”\, so no homework is assigned. Participants obtain their own copies of the book. Call the church office at 260-426-7421 for more information.
URL:https://firstpresfortwayne.org/event/table-talk-womens-book-study-11/
CATEGORIES:Church
END:VEVENT
END:VCALENDAR