BEGIN:VCALENDAR
VERSION:2.0
PRODID:-//1st Presbyterian Church - ECPv6.15.20//NONSGML v1.0//EN
CALSCALE:GREGORIAN
METHOD:PUBLISH
X-WR-CALNAME:1st Presbyterian Church
X-ORIGINAL-URL:https://firstpresfortwayne.org
X-WR-CALDESC:Events for 1st Presbyterian Church
REFRESH-INTERVAL;VALUE=DURATION:PT1H
X-Robots-Tag:noindex
X-PUBLISHED-TTL:PT1H
BEGIN:VTIMEZONE
TZID:America/Indiana/Indianapolis
BEGIN:DAYLIGHT
TZOFFSETFROM:-0500
TZOFFSETTO:-0400
TZNAME:EDT
DTSTART:20250309T070000
END:DAYLIGHT
BEGIN:STANDARD
TZOFFSETFROM:-0400
TZOFFSETTO:-0500
TZNAME:EST
DTSTART:20251102T060000
END:STANDARD
BEGIN:DAYLIGHT
TZOFFSETFROM:-0500
TZOFFSETTO:-0400
TZNAME:EDT
DTSTART:20260308T070000
END:DAYLIGHT
BEGIN:STANDARD
TZOFFSETFROM:-0400
TZOFFSETTO:-0500
TZNAME:EST
DTSTART:20261101T060000
END:STANDARD
BEGIN:DAYLIGHT
TZOFFSETFROM:-0500
TZOFFSETTO:-0400
TZNAME:EDT
DTSTART:20270314T070000
END:DAYLIGHT
BEGIN:STANDARD
TZOFFSETFROM:-0400
TZOFFSETTO:-0500
TZNAME:EST
DTSTART:20271107T060000
END:STANDARD
END:VTIMEZONE
BEGIN:VEVENT
DTSTART;TZID=America/Indiana/Indianapolis:20260302T150000
DTEND;TZID=America/Indiana/Indianapolis:20260302T170000
DTSTAMP:20260425T080743
CREATED:20260114T194300Z
LAST-MODIFIED:20260114T194300Z
UID:19065-1772463600-1772470800@firstpresfortwayne.org
SUMMARY:Faith\, Fibers\, and Fellowship
DESCRIPTION:Faith\, Fibers\, and Fellowship: Fiber crafters meet on Mondays 3-5 pm\, in Room 302\, as long as the church is open (closed holidays and sometimes in severe weather). Bring your own project to knit\, crochet\, embroider\, cross stitch\, weave\, needlepoint\, quilt\, hem\, etc. If you enjoy a beverage\, be sure it has a secure lid!
URL:https://firstpresfortwayne.org/event/faith-fibers-and-fellowship-10/
CATEGORIES:Church
END:VEVENT
BEGIN:VEVENT
DTSTART;TZID=America/Indiana/Indianapolis:20260304T100000
DTEND;TZID=America/Indiana/Indianapolis:20260304T110000
DTSTAMP:20260425T080743
CREATED:20260114T195130Z
LAST-MODIFIED:20260114T195130Z
UID:19074-1772618400-1772622000@firstpresfortwayne.org
SUMMARY:Table Talk Women's Book Study
DESCRIPTION:Table Talk 1 (Women’s Book Study) meets online on Wednesdays at 10:00 am. We take turns “reading around the table”\, so no homework is assigned. Participants obtain their own copies of the book. Call the church office at 260-426-7421 for more information.
URL:https://firstpresfortwayne.org/event/table-talk-womens-book-study-12/
CATEGORIES:Church
END:VEVENT
BEGIN:VEVENT
DTSTART;TZID=America/Indiana/Indianapolis:20260306T100000
DTEND;TZID=America/Indiana/Indianapolis:20260306T111500
DTSTAMP:20260425T080743
CREATED:20260114T195803Z
LAST-MODIFIED:20260114T195803Z
UID:19082-1772791200-1772795700@firstpresfortwayne.org
SUMMARY:Men's Bible Study
DESCRIPTION:Men’s Bible Study: The Men’s Bible study meets Fridays from 10:00 AM to 11:15 AM. They are currently studying the period after the Exile in Israel’s history\, focusing on the books of Ezra\, Nehemiah\, and Esther. As a supplementary text\, we will also read assigned portions each week from John Bright’s The History of Israel. The Bible study will be conducted by having everyone read the assigned passages in advance and then sharing their reflections together. We will meet on Zoom\, and\, from time to time\, we will also gather in person for brunch at a local restaurant. Please contact Rev. An if you would like more information.
URL:https://firstpresfortwayne.org/event/mens-bible-study-11/
END:VEVENT
BEGIN:VEVENT
DTSTART;TZID=America/Indiana/Indianapolis:20260309T150000
DTEND;TZID=America/Indiana/Indianapolis:20260309T170000
DTSTAMP:20260425T080743
CREATED:20260114T194341Z
LAST-MODIFIED:20260114T194341Z
UID:19066-1773068400-1773075600@firstpresfortwayne.org
SUMMARY:Faith\, Fibers\, and Fellowship
DESCRIPTION:Faith\, Fibers\, and Fellowship: Fiber crafters meet on Mondays 3-5 pm\, in Room 302\, as long as the church is open (closed holidays and sometimes in severe weather). Bring your own project to knit\, crochet\, embroider\, cross stitch\, weave\, needlepoint\, quilt\, hem\, etc. If you enjoy a beverage\, be sure it has a secure lid!
URL:https://firstpresfortwayne.org/event/faith-fibers-and-fellowship-11/
CATEGORIES:Church
END:VEVENT
BEGIN:VEVENT
DTSTART;TZID=America/Indiana/Indianapolis:20260311T100000
DTEND;TZID=America/Indiana/Indianapolis:20260311T110000
DTSTAMP:20260425T080743
CREATED:20260115T164835Z
LAST-MODIFIED:20260115T164835Z
UID:19089-1773223200-1773226800@firstpresfortwayne.org
SUMMARY:Table Talk Women's Book Study
DESCRIPTION:Table Talk 1 (Women’s Book Study) meets online on Wednesdays at 10:00 am. We take turns “reading around the table”\, so no homework is assigned. Participants obtain their own copies of the book. Call the church office at 260-426-7421 for more information.
URL:https://firstpresfortwayne.org/event/table-talk-womens-book-study-13/
CATEGORIES:Church
END:VEVENT
BEGIN:VEVENT
DTSTART;TZID=America/Indiana/Indianapolis:20260313T100000
DTEND;TZID=America/Indiana/Indianapolis:20260313T111500
DTSTAMP:20260425T080743
CREATED:20260115T164452Z
LAST-MODIFIED:20260115T164452Z
UID:19083-1773396000-1773400500@firstpresfortwayne.org
SUMMARY:Men's Bible Study
DESCRIPTION:Men’s Bible Study: The Men’s Bible study meets Fridays from 10:00 AM to 11:15 AM. They are currently studying the period after the Exile in Israel’s history\, focusing on the books of Ezra\, Nehemiah\, and Esther. As a supplementary text\, we will also read assigned portions each week from John Bright’s The History of Israel. The Bible study will be conducted by having everyone read the assigned passages in advance and then sharing their reflections together. We will meet on Zoom\, and\, from time to time\, we will also gather in person for brunch at a local restaurant. Please contact Rev. An if you would like more information.
URL:https://firstpresfortwayne.org/event/mens-bible-study-12/
END:VEVENT
BEGIN:VEVENT
DTSTART;TZID=America/Indiana/Indianapolis:20260316T150000
DTEND;TZID=America/Indiana/Indianapolis:20260316T170000
DTSTAMP:20260425T080743
CREATED:20260115T164639Z
LAST-MODIFIED:20260115T164639Z
UID:19086-1773673200-1773680400@firstpresfortwayne.org
SUMMARY:Faith\, Fibers\, and Fellowship
DESCRIPTION:Faith\, Fibers\, and Fellowship: Fiber crafters meet on Mondays 3-5 pm\, in Room 302\, as long as the church is open (closed holidays and sometimes in severe weather). Bring your own project to knit\, crochet\, embroider\, cross stitch\, weave\, needlepoint\, quilt\, hem\, etc. If you enjoy a beverage\, be sure it has a secure lid!
URL:https://firstpresfortwayne.org/event/faith-fibers-and-fellowship-12/
CATEGORIES:Church
END:VEVENT
BEGIN:VEVENT
DTSTART;TZID=America/Indiana/Indianapolis:20260318T100000
DTEND;TZID=America/Indiana/Indianapolis:20260318T110000
DTSTAMP:20260425T080743
CREATED:20260115T164908Z
LAST-MODIFIED:20260115T164908Z
UID:19090-1773828000-1773831600@firstpresfortwayne.org
SUMMARY:Table Talk Women's Book Study
DESCRIPTION:Table Talk 1 (Women’s Book Study) meets online on Wednesdays at 10:00 am. We take turns “reading around the table”\, so no homework is assigned. Participants obtain their own copies of the book. Call the church office at 260-426-7421 for more information.
URL:https://firstpresfortwayne.org/event/table-talk-womens-book-study-14/
CATEGORIES:Church
END:VEVENT
BEGIN:VEVENT
DTSTART;TZID=America/Indiana/Indianapolis:20260320T100000
DTEND;TZID=America/Indiana/Indianapolis:20260320T111500
DTSTAMP:20260425T080743
CREATED:20260115T164530Z
LAST-MODIFIED:20260318T123629Z
UID:19084-1774000800-1774005300@firstpresfortwayne.org
SUMMARY:Men's Bible Study
DESCRIPTION:Men’s Bible Study: The Men’s Bible study meets Fridays from 10:00 AM to 11:15 AM. They are currently studying the period after the Exile in Israel’s history\, focusing on the books of Ezra\, Nehemiah\, and Esther. As a supplementary text\, we will also read assigned portions each week from John Bright’s The History of Israel. The Bible study will be conducted by having everyone read the assigned passages in advance and then sharing their reflections together. We will meet on Zoom\, and\, from time to time\, we will also gather in person for brunch at a local restaurant. Please contact Rev. An if you would like more information.
URL:https://firstpresfortwayne.org/event/mens-bible-study-13/
END:VEVENT
BEGIN:VEVENT
DTSTART;TZID=America/Indiana/Indianapolis:20260320T130000
DTEND;TZID=America/Indiana/Indianapolis:20260320T140000
DTSTAMP:20260425T080743
CREATED:20260319T171741Z
LAST-MODIFIED:20260319T173123Z
UID:19316-1774011600-1774015200@firstpresfortwayne.org
SUMMARY:Women's Bible Study
DESCRIPTION:Women’s Bible Study meets Fridays at 1:00 pm via Zoom. For more information\, please contact Rev. Susan Keirn Kester at: keirnsusan@aol.com.
URL:https://firstpresfortwayne.org/event/womens-bible-study/
CATEGORIES:Church
END:VEVENT
BEGIN:VEVENT
DTSTART;TZID=America/Indiana/Indianapolis:20260322T121500
DTEND;TZID=America/Indiana/Indianapolis:20260322T130000
DTSTAMP:20260425T080743
CREATED:20260318T115809Z
LAST-MODIFIED:20260318T115809Z
UID:19285-1774181700-1774184400@firstpresfortwayne.org
SUMMARY:Coffee\, Cookies\, and Conversation
DESCRIPTION:After worship\, stay for coffee\, cookies\, and conversation in McKay Hall! Everyone is welcome!
URL:https://firstpresfortwayne.org/event/coffee-cookies-and-conversation/
LOCATION:First Presbyterian Church\, 300 W Wayne St.\, Fort Wayne\, 46802\, United States
CATEGORIES:Church
END:VEVENT
BEGIN:VEVENT
DTSTART;TZID=America/Indiana/Indianapolis:20260322T140000
DTEND;TZID=America/Indiana/Indianapolis:20260322T150000
DTSTAMP:20260425T080743
CREATED:20260206T135748Z
LAST-MODIFIED:20260206T135748Z
UID:19153-1774188000-1774191600@firstpresfortwayne.org
SUMMARY:Jeremy Filsell Piano Recital
DESCRIPTION:Jeremy Filsell\, an international artist hailed as one of only a few virtuoso performers as both pianist and organist\, will present a piano recital in the First Presbyterian Church Sanctuary. The event is free and open to the public.
URL:https://firstpresfortwayne.org/event/jeremy-filsell-piano-recital/
LOCATION:First Presbyterian Church\, 300 W Wayne St.\, Fort Wayne\, 46802\, United States
CATEGORIES:Church
END:VEVENT
BEGIN:VEVENT
DTSTART;TZID=America/Indiana/Indianapolis:20260323T133000
DTEND;TZID=America/Indiana/Indianapolis:20260323T143000
DTSTAMP:20260425T080743
CREATED:20260320T124945Z
LAST-MODIFIED:20260320T124945Z
UID:19332-1774272600-1774276200@firstpresfortwayne.org
SUMMARY:3B (Body\, Brain\, and Belief) Lifetime Fitness
DESCRIPTION:A lifetime fitness class geared toward flexibility\, balance\, and strengthening of those muscles we use every day. 3B classes meet in McKay Hall. All adults over 50 years old are invited and welcome. Classes are free and limited in size to 30. Please call the church at 426-7421 to sign up.
URL:https://firstpresfortwayne.org/event/3b-body-brain-and-belief-lifetime-fitness/
CATEGORIES:Church
END:VEVENT
BEGIN:VEVENT
DTSTART;TZID=America/Indiana/Indianapolis:20260323T150000
DTEND;TZID=America/Indiana/Indianapolis:20260323T170000
DTSTAMP:20260425T080743
CREATED:20260115T164725Z
LAST-MODIFIED:20260115T164725Z
UID:19087-1774278000-1774285200@firstpresfortwayne.org
SUMMARY:Faith\, Fibers\, and Fellowship
DESCRIPTION:Faith\, Fibers\, and Fellowship: Fiber crafters meet on Mondays 3-5 pm\, in Room 302\, as long as the church is open (closed holidays and sometimes in severe weather). Bring your own project to knit\, crochet\, embroider\, cross stitch\, weave\, needlepoint\, quilt\, hem\, etc. If you enjoy a beverage\, be sure it has a secure lid!
URL:https://firstpresfortwayne.org/event/faith-fibers-and-fellowship-13/
CATEGORIES:Church
END:VEVENT
BEGIN:VEVENT
DTSTART;TZID=America/Indiana/Indianapolis:20260325T100000
DTEND;TZID=America/Indiana/Indianapolis:20260325T110000
DTSTAMP:20260425T080743
CREATED:20260115T164945Z
LAST-MODIFIED:20260319T170453Z
UID:19091-1774432800-1774436400@firstpresfortwayne.org
SUMMARY:Table Talk Women's Book Study
DESCRIPTION:Table Talk: Women’s Book Study meets on Zoom each Wednesday at 10:00 am. Participants obtain their own copies of the book. Call the church office at 260-426-7421 for more information!
URL:https://firstpresfortwayne.org/event/table-talk-womens-book-study-15/
CATEGORIES:Church
END:VEVENT
BEGIN:VEVENT
DTSTART;TZID=America/Indiana/Indianapolis:20260325T133000
DTEND;TZID=America/Indiana/Indianapolis:20260325T143000
DTSTAMP:20260425T080743
CREATED:20260320T125031Z
LAST-MODIFIED:20260320T125031Z
UID:19333-1774445400-1774449000@firstpresfortwayne.org
SUMMARY:3B (Body\, Brain\, and Belief) Lifetime Fitness
DESCRIPTION:A lifetime fitness class geared toward flexibility\, balance\, and strengthening of those muscles we use every day. 3B classes meet in McKay Hall. All adults over 50 years old are invited and welcome. Classes are free and limited in size to 30. Please call the church at 426-7421 to sign up.
URL:https://firstpresfortwayne.org/event/3b-body-brain-and-belief-lifetime-fitness-2/
CATEGORIES:Church
END:VEVENT
BEGIN:VEVENT
DTSTART;TZID=America/Indiana/Indianapolis:20260327T100000
DTEND;TZID=America/Indiana/Indianapolis:20260327T111500
DTSTAMP:20260425T080743
CREATED:20260115T164607Z
LAST-MODIFIED:20260318T123712Z
UID:19085-1774605600-1774610100@firstpresfortwayne.org
SUMMARY:Men's Bible Study
DESCRIPTION:Men’s Bible Study: The Men’s Bible study meets Fridays from 10:00 AM to 11:15 AM. They are currently studying the period after the Exile in Israel’s history\, focusing on the books of Ezra\, Nehemiah\, and Esther. As a supplementary text\, we will also read assigned portions each week from John Bright’s The History of Israel. The Bible study will be conducted by having everyone read the assigned passages in advance and then sharing their reflections together. We will meet on Zoom\, and\, from time to time\, we will also gather in person for brunch at a local restaurant. Please contact Rev. An if you would like more information.
URL:https://firstpresfortwayne.org/event/mens-bible-study-14/
END:VEVENT
BEGIN:VEVENT
DTSTART;TZID=America/Indiana/Indianapolis:20260327T130000
DTEND;TZID=America/Indiana/Indianapolis:20260327T140000
DTSTAMP:20260425T080743
CREATED:20260319T171840Z
LAST-MODIFIED:20260319T173155Z
UID:19317-1774616400-1774620000@firstpresfortwayne.org
SUMMARY:Women's Bible Study
DESCRIPTION:Women’s Bible Study meets Fridays at 1:00 pm via Zoom. For more information\, please contact Rev. Susan Keirn Kester at: keirnsusan@aol.com.
URL:https://firstpresfortwayne.org/event/womens-bible-study-2/
CATEGORIES:Church
END:VEVENT
BEGIN:VEVENT
DTSTART;TZID=America/Indiana/Indianapolis:20260330T133000
DTEND;TZID=America/Indiana/Indianapolis:20260330T143000
DTSTAMP:20260425T080743
CREATED:20260320T125137Z
LAST-MODIFIED:20260320T125137Z
UID:19334-1774877400-1774881000@firstpresfortwayne.org
SUMMARY:3B (Body\, Brain\, and Belief) Lifetime Fitness
DESCRIPTION:A lifetime fitness class geared toward flexibility\, balance\, and strengthening of those muscles we use every day. 3B classes meet in McKay Hall. All adults over 50 years old are invited and welcome. Classes are free and limited in size to 30. Please call the church at 426-7421 to sign up.
URL:https://firstpresfortwayne.org/event/3b-body-brain-and-belief-lifetime-fitness-3/
CATEGORIES:Church
END:VEVENT
BEGIN:VEVENT
DTSTART;TZID=America/Indiana/Indianapolis:20260330T150000
DTEND;TZID=America/Indiana/Indianapolis:20260330T170000
DTSTAMP:20260425T080743
CREATED:20260115T164754Z
LAST-MODIFIED:20260318T123458Z
UID:19088-1774882800-1774890000@firstpresfortwayne.org
SUMMARY:Faith\, Fibers\, and Fellowship
DESCRIPTION:Faith\, Fibers\, and Fellowship: Fiber crafters meet on Mondays 3-5 pm\, in Room 302\, as long as the church is open (closed holidays and sometimes in severe weather). Bring your own project to knit\, crochet\, embroider\, cross stitch\, weave\, needlepoint\, quilt\, hem\, etc. If you enjoy a beverage\, be sure it has a secure lid!
URL:https://firstpresfortwayne.org/event/faith-fibers-and-fellowship-14/
CATEGORIES:Church
END:VEVENT
END:VCALENDAR