BEGIN:VCALENDAR
VERSION:2.0
PRODID:-//1st Presbyterian Church - ECPv6.15.20//NONSGML v1.0//EN
CALSCALE:GREGORIAN
METHOD:PUBLISH
X-ORIGINAL-URL:https://firstpresfortwayne.org
X-WR-CALDESC:Events for 1st Presbyterian Church
REFRESH-INTERVAL;VALUE=DURATION:PT1H
X-Robots-Tag:noindex
X-PUBLISHED-TTL:PT1H
BEGIN:VTIMEZONE
TZID:America/Indiana/Indianapolis
BEGIN:DAYLIGHT
TZOFFSETFROM:-0500
TZOFFSETTO:-0400
TZNAME:EDT
DTSTART:20250309T070000
END:DAYLIGHT
BEGIN:STANDARD
TZOFFSETFROM:-0400
TZOFFSETTO:-0500
TZNAME:EST
DTSTART:20251102T060000
END:STANDARD
BEGIN:DAYLIGHT
TZOFFSETFROM:-0500
TZOFFSETTO:-0400
TZNAME:EDT
DTSTART:20260308T070000
END:DAYLIGHT
BEGIN:STANDARD
TZOFFSETFROM:-0400
TZOFFSETTO:-0500
TZNAME:EST
DTSTART:20261101T060000
END:STANDARD
BEGIN:DAYLIGHT
TZOFFSETFROM:-0500
TZOFFSETTO:-0400
TZNAME:EDT
DTSTART:20270314T070000
END:DAYLIGHT
BEGIN:STANDARD
TZOFFSETFROM:-0400
TZOFFSETTO:-0500
TZNAME:EST
DTSTART:20271107T060000
END:STANDARD
END:VTIMEZONE
BEGIN:VEVENT
DTSTART;TZID=America/Indiana/Indianapolis:20260304T100000
DTEND;TZID=America/Indiana/Indianapolis:20260304T110000
DTSTAMP:20260423T123235
CREATED:20260114T195130Z
LAST-MODIFIED:20260114T195130Z
UID:19074-1772618400-1772622000@firstpresfortwayne.org
SUMMARY:Table Talk Women's Book Study
DESCRIPTION:Table Talk 1 (Women’s Book Study) meets online on Wednesdays at 10:00 am. We take turns “reading around the table”\, so no homework is assigned. Participants obtain their own copies of the book. Call the church office at 260-426-7421 for more information.
URL:https://firstpresfortwayne.org/event/table-talk-womens-book-study-12/
CATEGORIES:Church
END:VEVENT
BEGIN:VEVENT
DTSTART;TZID=America/Indiana/Indianapolis:20260311T100000
DTEND;TZID=America/Indiana/Indianapolis:20260311T110000
DTSTAMP:20260423T123235
CREATED:20260115T164835Z
LAST-MODIFIED:20260115T164835Z
UID:19089-1773223200-1773226800@firstpresfortwayne.org
SUMMARY:Table Talk Women's Book Study
DESCRIPTION:Table Talk 1 (Women’s Book Study) meets online on Wednesdays at 10:00 am. We take turns “reading around the table”\, so no homework is assigned. Participants obtain their own copies of the book. Call the church office at 260-426-7421 for more information.
URL:https://firstpresfortwayne.org/event/table-talk-womens-book-study-13/
CATEGORIES:Church
END:VEVENT
BEGIN:VEVENT
DTSTART;TZID=America/Indiana/Indianapolis:20260318T100000
DTEND;TZID=America/Indiana/Indianapolis:20260318T110000
DTSTAMP:20260423T123235
CREATED:20260115T164908Z
LAST-MODIFIED:20260115T164908Z
UID:19090-1773828000-1773831600@firstpresfortwayne.org
SUMMARY:Table Talk Women's Book Study
DESCRIPTION:Table Talk 1 (Women’s Book Study) meets online on Wednesdays at 10:00 am. We take turns “reading around the table”\, so no homework is assigned. Participants obtain their own copies of the book. Call the church office at 260-426-7421 for more information.
URL:https://firstpresfortwayne.org/event/table-talk-womens-book-study-14/
CATEGORIES:Church
END:VEVENT
BEGIN:VEVENT
DTSTART;TZID=America/Indiana/Indianapolis:20260325T100000
DTEND;TZID=America/Indiana/Indianapolis:20260325T110000
DTSTAMP:20260423T123235
CREATED:20260115T164945Z
LAST-MODIFIED:20260319T170453Z
UID:19091-1774432800-1774436400@firstpresfortwayne.org
SUMMARY:Table Talk Women's Book Study
DESCRIPTION:Table Talk: Women’s Book Study meets on Zoom each Wednesday at 10:00 am. Participants obtain their own copies of the book. Call the church office at 260-426-7421 for more information!
URL:https://firstpresfortwayne.org/event/table-talk-womens-book-study-15/
CATEGORIES:Church
END:VEVENT
BEGIN:VEVENT
DTSTART;TZID=America/Indiana/Indianapolis:20260327T173000
DTEND;TZID=America/Indiana/Indianapolis:20260327T190000
DTSTAMP:20260423T123235
CREATED:20260305T140948Z
LAST-MODIFIED:20260305T140948Z
UID:19216-1774632600-1774638000@firstpresfortwayne.org
SUMMARY:Consider the Lilies of the Field: Botanical Art
DESCRIPTION:Join us at the First Presbyterian Art Galley for Consider The Lilies of the Field: Botanical Art\, featuring work by Hannah Burnworth\, Megan Sheetz\, Patricia Weiss\, and Vicki Davis. \nReception: March 27\, 5:30-7:00 pm \nBotanical art showcases the natural world\, its beauty\, and the importance of conservation. Exhibiting artists will display botanical works focused on earth care\, environmentalism\, spring\, preserving the earth\, and gardening.  The opening night reception features art\, music\, refreshments\, and conversation! The event is free and open to the public. \n \n 
URL:https://firstpresfortwayne.org/event/consider-the-lilies-of-the-field-botanical-art/
LOCATION:First Presbyterian Art Gallery\, 300 W Wayne St.\, Fort Wayne\, IN\, 46802\, United States
CATEGORIES:Church
END:VEVENT
END:VCALENDAR