BEGIN:VCALENDAR
VERSION:2.0
PRODID:-//1st Presbyterian Church - ECPv6.15.20//NONSGML v1.0//EN
CALSCALE:GREGORIAN
METHOD:PUBLISH
X-WR-CALNAME:1st Presbyterian Church
X-ORIGINAL-URL:https://firstpresfortwayne.org
X-WR-CALDESC:Events for 1st Presbyterian Church
REFRESH-INTERVAL;VALUE=DURATION:PT1H
X-Robots-Tag:noindex
X-PUBLISHED-TTL:PT1H
BEGIN:VTIMEZONE
TZID:America/Indiana/Indianapolis
BEGIN:DAYLIGHT
TZOFFSETFROM:-0500
TZOFFSETTO:-0400
TZNAME:EDT
DTSTART:20250309T070000
END:DAYLIGHT
BEGIN:STANDARD
TZOFFSETFROM:-0400
TZOFFSETTO:-0500
TZNAME:EST
DTSTART:20251102T060000
END:STANDARD
BEGIN:DAYLIGHT
TZOFFSETFROM:-0500
TZOFFSETTO:-0400
TZNAME:EDT
DTSTART:20260308T070000
END:DAYLIGHT
BEGIN:STANDARD
TZOFFSETFROM:-0400
TZOFFSETTO:-0500
TZNAME:EST
DTSTART:20261101T060000
END:STANDARD
BEGIN:DAYLIGHT
TZOFFSETFROM:-0500
TZOFFSETTO:-0400
TZNAME:EDT
DTSTART:20270314T070000
END:DAYLIGHT
BEGIN:STANDARD
TZOFFSETFROM:-0400
TZOFFSETTO:-0500
TZNAME:EST
DTSTART:20271107T060000
END:STANDARD
END:VTIMEZONE
BEGIN:VEVENT
DTSTART;TZID=America/Indiana/Indianapolis:20260522T130000
DTEND;TZID=America/Indiana/Indianapolis:20260522T140000
DTSTAMP:20260422T120417
CREATED:20260319T172900Z
LAST-MODIFIED:20260319T173631Z
UID:19324-1779454800-1779458400@firstpresfortwayne.org
SUMMARY:Women's Bible Study
DESCRIPTION:Women’s Bible Study meets Fridays at 1:00 pm via Zoom. For more information\, please contact Rev. Susan Keirn Kester at: keirnsusan@aol.com.
URL:https://firstpresfortwayne.org/event/womens-bible-study-9/
CATEGORIES:Church
END:VEVENT
END:VCALENDAR